BEGIN:VCALENDAR
VERSION:2.0
PRODID:-//דו-עט אונליין - ECPv6.15.17//NONSGML v1.0//EN
CALSCALE:GREGORIAN
METHOD:PUBLISH
X-WR-CALNAME:דו-עט אונליין
X-ORIGINAL-URL:https://duet-poetry.com
X-WR-CALDESC:Events for דו-עט אונליין
REFRESH-INTERVAL;VALUE=DURATION:PT1H
X-Robots-Tag:noindex
X-PUBLISHED-TTL:PT1H
BEGIN:VTIMEZONE
TZID:Asia/Jerusalem
BEGIN:DAYLIGHT
TZOFFSETFROM:+0200
TZOFFSETTO:+0300
TZNAME:IDT
DTSTART:20220325T000000
END:DAYLIGHT
BEGIN:STANDARD
TZOFFSETFROM:+0300
TZOFFSETTO:+0200
TZNAME:IST
DTSTART:20221029T230000
END:STANDARD
BEGIN:DAYLIGHT
TZOFFSETFROM:+0200
TZOFFSETTO:+0300
TZNAME:IDT
DTSTART:20230324T000000
END:DAYLIGHT
BEGIN:STANDARD
TZOFFSETFROM:+0300
TZOFFSETTO:+0200
TZNAME:IST
DTSTART:20231028T230000
END:STANDARD
BEGIN:DAYLIGHT
TZOFFSETFROM:+0200
TZOFFSETTO:+0300
TZNAME:IDT
DTSTART:20240329T000000
END:DAYLIGHT
BEGIN:STANDARD
TZOFFSETFROM:+0300
TZOFFSETTO:+0200
TZNAME:IST
DTSTART:20241026T230000
END:STANDARD
END:VTIMEZONE
BEGIN:VEVENT
DTSTART;TZID=Asia/Jerusalem:20230824T203000
DTEND;TZID=Asia/Jerusalem:20230824T223000
DTSTAMP:20260425T211420
CREATED:20230722T133944Z
LAST-MODIFIED:20230722T133944Z
UID:7810-1692909000-1692916200@duet-poetry.com
SUMMARY:דו-עט19#: במה ליצירה מקורית\, והפעם בנושא: ת"א
DESCRIPTION:במת דו-עט נפתחת בפעם ה-19 עם ערב של הופעות מקוריות וקצרות: שירה\, מוזיקה\, ספוקן וורד והפתעות נוספות!.\nהפעם הזאת\, חוזרים לקיוסקו בפלורנטין!\n**\nלמי שלא שמע על דו-עט\, מה בעצם קורה?\nכ-12 יוצרות ויוצרים עולים כל אחד בתורו לבמה\, ויוצרים מסע ייחודי לאותו ערב.\nהערב בהנחייתו של האיש והאגדה מיתר הלל קורמן\n**\nהכניסה בעלות של 30 ש"ח\nואפשר גם לרכוש כרטיסייה של 10 כניסות ב-200 ש"ח\nלינק לרכישה: https://duet-poetry.com/nextduet/\n=--=\nמתי זה יקרה? 24.8.23\, יום חמישי\nאיפה? קיוסקו\, פלורנטין\, ידידיה פרנקל 31 ת"א\nמתחילים ב-20:30\n=--=\nרוצים להשתתף באחד הערבים הקרובים?\nמלאו את הטופס ונחזור אליכם ברגע שייפתח אירוע רלוונטי\nhttps://forms.gle/XC5Cx4MFpD31NxEh6\nצוות דו-עט:\n@NoamsPoetry נעם שליט\nמיתר הלל קורמן @Meitar Kurman\nג'יליאן ווך @ShinJil \nSee less
URL:https://duet-poetry.com/event/%d7%93%d7%95-%d7%a2%d7%9819-%d7%91%d7%9e%d7%94-%d7%9c%d7%99%d7%a6%d7%99%d7%a8%d7%94-%d7%9e%d7%a7%d7%95%d7%a8%d7%99%d7%aa-%d7%95%d7%94%d7%a4%d7%a2%d7%9d-%d7%91%d7%a0%d7%95%d7%a9%d7%90-%d7%aa/
LOCATION:קיוסקו\, ידידיה פרנקל 31\, תל אביב\, Israel
CATEGORIES:אירוע שירה,הופעה
ORGANIZER;CN="%D7%93%D7%95-%D7%A2%D7%98":MAILTO:duetpoets@gmail.com
END:VEVENT
BEGIN:VEVENT
DTSTART;TZID=Asia/Jerusalem:20230126T203000
DTEND;TZID=Asia/Jerusalem:20230126T223000
DTSTAMP:20260425T211420
CREATED:20230122T132603Z
LAST-MODIFIED:20230122T193538Z
UID:262-1674765000-1674772200@duet-poetry.com
SUMMARY:דו-עט 13# - במה ליצירה מקורית וקצרה
DESCRIPTION:ביום חמישי\, 26.1\, דו-עט חוזר לבית הסופר בת"א (רח' קפלן 6) לערב של הופעות מקוריות קצרות: מוזיקה\, שירה\, ספוקן וורד\, סטנדאפ ועוד!\nזהו הדו-עט הראשון לשנת 2023\, וכמו תמיד צפוי ערב מיוחד ומלא בכשרון ואמנות\n*\nעקבו אחרי הפרסומים והעדכונים לליין אפ המלא\n*\nרוצים להשתתף באחד הערבים הקרובים?\nשלחו לנו מייל:\nduetpoets@gmail.com\n(צריך סבלנות כי הרשימה מתמלאת מראש ומהר)\n*\nהפרטים היבשים:\nמתי? 26.1.23\, יום חמישי\nאיפה? בית הסופר\, קפלן 6 ת"א\nהתכנסות 20:00\nמתחילים ב-20:30\nיהיה כיבוד קל\, מוזמנים להביא גם משלכם \n*\nהליין בהפקת:\nנעם שליט\nמיתר הלל קורמן\nג'יליאן ווך\nובאדיבות אגודת הסופרים העברים במדינת ישראל
URL:https://duet-poetry.com/event/%d7%93%d7%95-%d7%a2%d7%98-13-%d7%91%d7%9e%d7%94-%d7%9c%d7%99%d7%a6%d7%99%d7%a8%d7%94-%d7%9e%d7%a7%d7%95%d7%a8%d7%99%d7%aa-%d7%95%d7%a7%d7%a6%d7%a8%d7%94/
LOCATION:בית הסופר\, קפלן 6\, תל אביב\, Israel
CATEGORIES:אירוע שירה,הופעה,השקת ספר
ATTACH;FMTTYPE=image/jpeg:https://duet-poetry.com/wp-content/uploads/2023/01/321926029_1137426983804825_8118456129609165812_n.jpg
END:VEVENT
END:VCALENDAR